BEGIN:VCALENDAR
VERSION:2.0
PRODID:-//hacksw/handcal//NONSGML v1.0//EN
CALSCALE:GREGORIAN
BEGIN:VEVENT
LOCATION:
DESCRIPTION:We can’t wait to see it at this year’s RSVP Golf Classic! Join us for a day of golf\, networking\, and community impact at our new venue\, Brookside Country Club\, a premier private course known for its beautifully maintained greens and championship layout. Enjoy a fun and competitive scramble format designed for golfers of all skill levels while supporting RSVP’s programs that serve thousands of children\, adults\, seniors\, and nonprofits throughout our region. 
DTSTART:20260608T090000"AM06UTCMon, 08 Jun 2026 09:00:00 +0000002026-06-08T09:00:00+00:00am/1UTC1_20262026Mon, 08 Jun 2026 09:00:00 +0000k"
DTEND:20260608T170000"PM06UTCMon, 08 Jun 2026 17:00:00 +0000002026-06-08T17:00:00+00:00pm/1UTC1_20262026Mon, 08 Jun 2026 17:00:00 +0000k"
SUMMARY:2026 RSVP Golf Classic
URL;VALUE=URI:https://uwscc.facewebsites.net/event-info/412
DTSTAMP:20260425T194251"PM04UTCSat, 25 Apr 2026 19:42:51 +0000422026-04-25T19:42:51+00:00pm/6UTC6_20262026Sat, 25 Apr 2026 19:42:51 +0000k"
UID:69ed193b4b0cb
END:VEVENT
END:VCALENDAR