BEGIN:VCALENDAR
VERSION:2.0
PRODID:-//hacksw/handcal//NONSGML v1.0//EN
CALSCALE:GREGORIAN
BEGIN:VEVENT
LOCATION:
DESCRIPTION:The Common Threads Entrepreneurship and Innovation event will spotlight local entrepreneurs\, exploring their stories of navigating success and supporting their communities. 
DTSTART:20260507T103000"AM05UTCThu, 07 May 2026 10:30:00 +0000302026-05-07T10:30:00+00:00am/4UTC4_20262026Thu, 07 May 2026 10:30:00 +0000k"
DTEND:20260507T123000"PM05UTCThu, 07 May 2026 12:30:00 +0000302026-05-07T12:30:00+00:00pm/4UTC4_20262026Thu, 07 May 2026 12:30:00 +0000k"
SUMMARY:Free Entrepreneurship and Innovation Event
URL;VALUE=URI:https://uwscc.facewebsites.net/event-info/413
DTSTAMP:20260425T194251"PM04UTCSat, 25 Apr 2026 19:42:51 +0000422026-04-25T19:42:51+00:00pm/6UTC6_20262026Sat, 25 Apr 2026 19:42:51 +0000k"
UID:69ed193b4c651
END:VEVENT
END:VCALENDAR